BEGIN:VCALENDAR
VERSION:2.0
PRODID:icalendar-ruby
CALSCALE:GREGORIAN
METHOD:PUBLISH
BEGIN:VEVENT
DTSTAMP:20260420T030052Z
UID:102-1207597@newzionchristianchurch.org
DTSTART:20260425T170000Z
DTEND:20260425T190000Z
CLASS:PUBLIC
CREATED:20260418T215552
DESCRIPTION:Join WOP for a time of good food\, fun\, and fellowship! \n \
 nSaturday\, April 25th at 1:00 pm \nat Budder's \n2631 Peachtree Parkway \
 nSuite 545 Suwanee\, GA 30024\nPlease RSVP to wop@nzcc.org by Monday\, Apr
 il 20th.
LAST-MODIFIED:20260418T215552
LOCATION:Budders 2631 Peachtree Parkway Suite 545 Suwanee\, GA 30024
SUMMARY:WOP Brunch and Chat
URL;VALUE=URI:https://newzionchristianchurch.org/events/wop-brunch-and-chat
 /2026-04-25
ATTACH;FILENAME=WOP-Various-Announcement-Slides-2.png;FMTTYPE=image/png:htt
 ps://dq5pwpg1q8ru0.cloudfront.net/2026/04/19/01/55/52/b082529e-b92f-4d8b-8
 a16-fd0b92248487/WOP-Various-Announcement-Slides-2.png
END:VEVENT
END:VCALENDAR
